BEGIN:VCALENDAR
VERSION:2.0
PRODID:-//ASV Hoppst&auml;dten - ECPv5.0.2.1//NONSGML v1.0//EN
CALSCALE:GREGORIAN
METHOD:PUBLISH
X-WR-CALNAME:ASV Hoppst&auml;dten
X-ORIGINAL-URL:http://www.xn--asv-hoppstdten-fib.de
X-WR-CALDESC:Veranstaltungen im ASV Hoppst&auml;dten
BEGIN:VTIMEZONE
TZID:Europe/Paris
BEGIN:DAYLIGHT
TZOFFSETFROM:+0100
TZOFFSETTO:+0200
TZNAME:CEST
DTSTART:20190331T010000
END:DAYLIGHT
BEGIN:STANDARD
TZOFFSETFROM:+0200
TZOFFSETTO:+0100
TZNAME:CET
DTSTART:20191027T010000
END:STANDARD
END:VTIMEZONE
BEGIN:VEVENT
DTSTART;TZID=Europe/Paris:20190323T090000
DTEND;TZID=Europe/Paris:20190323T130000
DTSTAMP:20260421T065715
CREATED:20190313T152731Z
LAST-MODIFIED:20190313T152731Z
UID:1002-1553331600-1553346000@www.xn--asv-hoppstdten-fib.de
SUMMARY:Umweltschutztag 2019
DESCRIPTION:Der diesjährige Umweltschutztag findet am Samstag\, dem 23.03 statt. \nTreffpunkt: ab 09:00 Uhr am Vereinsheim Mausemühle. \n  \n
URL:http://www.xn--asv-hoppstdten-fib.de/event/umweltschutztag-2019/
CATEGORIES:Termin
END:VEVENT
END:VCALENDAR