BEGIN:VCALENDAR
VERSION:2.0
PRODID:-//ASV Hoppst&auml;dten - ECPv5.0.2.1//NONSGML v1.0//EN
CALSCALE:GREGORIAN
METHOD:PUBLISH
X-WR-CALNAME:ASV Hoppst&auml;dten
X-ORIGINAL-URL:http://www.xn--asv-hoppstdten-fib.de
X-WR-CALDESC:Veranstaltungen im ASV Hoppst&auml;dten
BEGIN:VTIMEZONE
TZID:Europe/Paris
BEGIN:DAYLIGHT
TZOFFSETFROM:+0100
TZOFFSETTO:+0200
TZNAME:CEST
DTSTART:20190331T010000
END:DAYLIGHT
BEGIN:STANDARD
TZOFFSETFROM:+0200
TZOFFSETTO:+0100
TZNAME:CET
DTSTART:20191027T010000
END:STANDARD
END:VTIMEZONE
BEGIN:VEVENT
DTSTART;TZID=Europe/Paris:20190322T190000
DTEND;TZID=Europe/Paris:20190322T210000
DTSTAMP:20260421T070829
CREATED:20190313T151907Z
LAST-MODIFIED:20190313T153309Z
UID:999-1553281200-1553288400@www.xn--asv-hoppstdten-fib.de
SUMMARY:Jahreshauptversammlung 2019
DESCRIPTION:Angelsportverein Hoppstädten 1969 e.V. \n  \nEinladung zur Jahreshauptversammlung mit Vorstandswahlen \nAm  Freitag\, dem 22.03.2019 um 19:00 Uhr\, Mausemühle \n  \nTagesordnung:   \n\nBegrüßung\nJahresberichte des Vorsitzenden\, Schriftführers\, Gewässerwartes\nKassenbericht des Kassierers\nAussprache zu Punkt 2  3 \nBericht der Kassenprüfer\nWahl eines Versammlungsleiters\nAntrag auf Entlastung des Vorstandes\nWahl eines neuen Vorstandes\nWahl eines neuen  Kassenprüfers\nBehandlung von Anträgen\, die mindestens 8 Tage vor der  Jahres-Hauptversammlung  schriftlich eingereicht wurden.\nVerschiedenes\n\nUm allen Meinungen der Mitglieder gerecht zu werden und auch wegen unserem  50- jährigen Vereinsjubiläum in diesem Jahr bittet der Vorstand um zahlreiches Erscheinen. \nDer  Vorstand \n  \n
URL:http://www.xn--asv-hoppstdten-fib.de/event/jahreshauptversammlung-2019/
LOCATION:Mausemühle\, Saarstraße\, Hoppstädten-Weiersbach\, 55768\, Deutschland
CATEGORIES:Termin
END:VEVENT
END:VCALENDAR